BEGIN:VCALENDAR
VERSION:2.0
PRODID:-//Chor Korntal e.V. - ECPv6.15.20//NONSGML v1.0//EN
CALSCALE:GREGORIAN
METHOD:PUBLISH
X-ORIGINAL-URL:https://chor-korntal.de
X-WR-CALDESC:Veranstaltungen für Chor Korntal e.V.
REFRESH-INTERVAL;VALUE=DURATION:PT1H
X-Robots-Tag:noindex
X-PUBLISHED-TTL:PT1H
BEGIN:VTIMEZONE
TZID:Europe/Berlin
BEGIN:DAYLIGHT
TZOFFSETFROM:+0100
TZOFFSETTO:+0200
TZNAME:CEST
DTSTART:20210328T010000
END:DAYLIGHT
BEGIN:STANDARD
TZOFFSETFROM:+0200
TZOFFSETTO:+0100
TZNAME:CET
DTSTART:20211031T010000
END:STANDARD
BEGIN:DAYLIGHT
TZOFFSETFROM:+0100
TZOFFSETTO:+0200
TZNAME:CEST
DTSTART:20220327T010000
END:DAYLIGHT
BEGIN:STANDARD
TZOFFSETFROM:+0200
TZOFFSETTO:+0100
TZNAME:CET
DTSTART:20221030T010000
END:STANDARD
BEGIN:DAYLIGHT
TZOFFSETFROM:+0100
TZOFFSETTO:+0200
TZNAME:CEST
DTSTART:20230326T010000
END:DAYLIGHT
BEGIN:STANDARD
TZOFFSETFROM:+0200
TZOFFSETTO:+0100
TZNAME:CET
DTSTART:20231029T010000
END:STANDARD
END:VTIMEZONE
BEGIN:VEVENT
DTSTART;TZID=Europe/Berlin:20221211T180000
DTEND;TZID=Europe/Berlin:20221211T200000
DTSTAMP:20260424T010633
CREATED:20220926T142939Z
LAST-MODIFIED:20221028T151129Z
UID:896-1670781600-1670788800@chor-korntal.de
SUMMARY:Adventskonzert 2022
DESCRIPTION:
URL:https://chor-korntal.de/termin/adventskonzert-2022/
ATTACH;FMTTYPE=image/jpeg:https://chor-korntal.de/wp-content/uploads/2022/10/weihnachtsstern-1200x675-1.jpg
END:VEVENT
END:VCALENDAR